BEGIN:VCALENDAR
VERSION:2.0
PRODID:-//Sabre//Sabre VObject 3.5.3//EN
CALSCALE:GREGORIAN
BEGIN:VTIMEZONE
TZID:Europe/London
BEGIN:STANDARD
TZNAME:GMT
DTSTART:19701025T020000
RRULE:FREQ=YEARLY;BYMONTH=10;BYDAY=-1SU
TZOFFSETFROM:+0100
TZOFFSETTO:+0000
END:STANDARD
BEGIN:DAYLIGHT
TZNAME:BST
DTSTART:19700329T010000
RRULE:FREQ=YEARLY;BYMONTH=3;BYDAY=-1SU
TZOFFSETFROM:+0000
TZOFFSETTO:+0100
END:DAYLIGHT
END:VTIMEZONE
BEGIN:VEVENT
UID:event_312488@soundwaveschoir.org.uk
DTSTART;TZID=Europe/London:20260507T193000
DTEND;TZID=Europe/London:20260507T213000
SUMMARY:AGM & Social 2026
DESCRIPTION:This year&rsquo\;s AGM on Thursday 7th&nbsp\;May will follow th
 e usual format &ndash\; the social after the meeting &ndash\; so from abou
 t 8.30pm onwards is where you have the opportunity to have hot food\, a dr
 ink and chat with other choir members.\nThe venue of East Hastings Sea Ang
 ling Club (upstairs large room but there is a lift also) is as previous ye
 ars with an open bar.\n\nIf you would like food &ndash\; below are further
  details on how to choose and pay in advance :-\n&nbsp\;\nFood: &pound\;8 
 per person payable in CASH please&nbsp\;\n\nChoices are: Mild Chicken Curr
 y\, rice and poppadoms &ndash\; Mild Vegetable &amp\; Pulses Curry &nbsp\;
 with rice and poppadoms\, and Beef Lasagne. There is a tray of Mixed Salad
  as well.\n&nbsp\;\nPaying either by&nbsp\;: Bring your choice of food and
  cash to one of the Tuesday choir rehearsals\n&nbsp\;&nbsp\;&nbsp\;&nbsp\;
 &nbsp\;&nbsp\;&nbsp\;&nbsp\;&nbsp\;&nbsp\;&nbsp\;&nbsp\;&nbsp\;&nbsp\;Or b
 y:&nbsp\;&nbsp\; Contact Wendy Cascio by email: charities@soundwaveschoir.
 org.uk [if you are coming to AGM as choir member but not taking part in th
 e current sessions]\nCaterers need to be paid by Wendy by 21st April so pl
 ease get your order in before then.&nbsp\;\n\nFor full event details\, vis
 it: https://www.soundwaveschoir.org.uk/dbpage.php?pg=view&dbase=events&id=
 312488
LOCATION:EHSAA (East Hastings Sea Angling Association)\, The Stade\, Hastin
 gs TN34 3FJ
URL:https://www.soundwaveschoir.org.uk/dbpage.php?pg=view&dbase=events&id=3
 12488
END:VEVENT
END:VCALENDAR
